BEGIN:VCALENDAR
VERSION:2.0
PRODID:-//LUMA-keskus Suomi - ECPv6.15.20//NONSGML v1.0//EN
CALSCALE:GREGORIAN
METHOD:PUBLISH
X-WR-CALNAME:LUMA-keskus Suomi
X-ORIGINAL-URL:https://www.luma.fi
X-WR-CALDESC:Tapahtumat LUMA-keskus Suomi
REFRESH-INTERVAL;VALUE=DURATION:PT1H
X-Robots-Tag:noindex
X-PUBLISHED-TTL:PT1H
BEGIN:VTIMEZONE
TZID:Europe/Helsinki
BEGIN:DAYLIGHT
TZOFFSETFROM:+0200
TZOFFSETTO:+0300
TZNAME:EEST
DTSTART:20250330T010000
END:DAYLIGHT
BEGIN:STANDARD
TZOFFSETFROM:+0300
TZOFFSETTO:+0200
TZNAME:EET
DTSTART:20251026T010000
END:STANDARD
BEGIN:DAYLIGHT
TZOFFSETFROM:+0200
TZOFFSETTO:+0300
TZNAME:EEST
DTSTART:20260329T010000
END:DAYLIGHT
BEGIN:STANDARD
TZOFFSETFROM:+0300
TZOFFSETTO:+0200
TZNAME:EET
DTSTART:20261025T010000
END:STANDARD
BEGIN:DAYLIGHT
TZOFFSETFROM:+0200
TZOFFSETTO:+0300
TZNAME:EEST
DTSTART:20270328T010000
END:DAYLIGHT
BEGIN:STANDARD
TZOFFSETFROM:+0300
TZOFFSETTO:+0200
TZNAME:EET
DTSTART:20271031T010000
END:STANDARD
END:VTIMEZONE
BEGIN:VEVENT
DTSTART;VALUE=DATE:20260420
DTEND;VALUE=DATE:20260425
DTSTAMP:20260422T130750
CREATED:20260319T075418Z
LAST-MODIFIED:20260319T075418Z
UID:15964-1776643200-1777075199@www.luma.fi
SUMMARY:Työpajakiertue Giđđa Rovaniemellä
DESCRIPTION:Tarjoamme viikon aikana LUMA-aiheisia työpajoja peruskoulun 1.–6.-luokkalaisille. Työpajat toteutetaan Rovaniemen alueen kouluilla ja Lapin yliopistolla. Veden pintajännitys -työpaja on mahdollista toteuttaa etäopetuksena. Lähityöpajoissa tuomme kaiken tarvittavan materiaalin mukanamme. Työpajat ovat veloituksettomia. Yhden työpajan kesto on 45 min. \nLue lisää työpajojen kuvauksista täältä: https://ulapland.fi/ujunnu/tyopajakiertue-gidda/ \nVaraa työpajat 3.4.2026 mennessä: https://forms.office.com/e/hVuw1ptgdL?origin=lprLink
URL:https://www.luma.fi/tapahtuma/tyopajakiertue-gidda-rovaniemella/
END:VEVENT
BEGIN:VEVENT
DTSTART;VALUE=DATE:20260420
DTEND;VALUE=DATE:20260425
DTSTAMP:20260422T130750
CREATED:20260330T115826Z
LAST-MODIFIED:20260330T115826Z
UID:15991-1776643200-1777075199@www.luma.fi
SUMMARY:Sijoita tulevaisuuteesi -etätyöpajoja toiselle asteelle
DESCRIPTION:Aalto-yliopisto Junior järjestää etäyhteydellä toisen asteen opiskelijoille suunnattuja Sijoita tulevaisuuteesi -työpajoja 20.–24.4. \nTyöpajoissa tutustutaan sijoittamisen perusperiaatteisiin\, riskeihin\, mahdollisuuksiin ja vastuullisiin valintoihin käytännönläheisesti. Tavoitteena on tarjota valmiuksia ymmärtää sijoittamisen ja säästämisen merkitystä. Työpajan aikana opiskelijat luovat oman kuvitteellisen sijoitussalkkunsa. \nSijoita tulevaisuuteesi -työpajat sopivat erinomaisesti esimerkiksi lukion yhteiskuntaopin\, matematiikan\, opinto-ohjauksen sekä ammatillisen opetuksen liiketalouden ja YTO-opintojen opetukseen. \nValitse ryhmällesi sopiva aika seuraavista:\nMa 20.4. klo 12.00-13.15 (in english)\nMa 20.4. klo 15.00-16.15\nKe 22.4. klo 13.30-14.45\nPe 24.4. klo 10.15-11.30 (på svenska)\nPe 24.4. klo 13.30-14.45 \nSamaan työpajaan voi osallistua useita luokkia ympäri Suomen. \nLue lisää ja ilmoita luokkasi työpajaan 10.4. mennessä
URL:https://www.luma.fi/tapahtuma/sijoita-tulevaisuuteesi-etatyopajoja-toiselle-asteelle/
END:VEVENT
BEGIN:VEVENT
DTSTART;TZID=Europe/Helsinki:20260422T160000
DTEND;TZID=Europe/Helsinki:20260422T183000
DTSTAMP:20260422T130750
CREATED:20260311T105049Z
LAST-MODIFIED:20260311T105049Z
UID:15941-1776873600-1776882600@www.luma.fi
SUMMARY:Kurkistus biotaiteeseen -ilta opettajille Espoossa
DESCRIPTION:Aalto-yliopisto Junior toivottaa opettajat tervetulleiksi kokeilemaan taiteen ja luonnontieteiden yhdistämistä biotaiteen kautta. Maksuton opettajien ilta on suunnattu erityisesti biologian\, kemian ja kuvataiteen opettajille\, mutta mukaan ovat tervetulleita kaikki aiheesta kiinnostuneet. Tilaisuudessa tutustutaan taiteen ja luonnontieteiden yhdistämiseen tutustumalla biotaiteeseen. Tutkitaan yhdessä mikrobeja sekä harjoitellaan laboratoriossa työskentelyä ja maalataan biotaideteos mikrobien kanssa. \nTilaisuuteen otetaan 25 ensimmäiseksi ilmoittautunutta opettajaa. Tarjolla on välipalaa. \nPaikka: Aalto-yliopisto Junior LAB\, Kemistintie 1\, Otaniemi\, Espoo \nIlmoittaudu tästä linkistä
URL:https://www.luma.fi/tapahtuma/kurkistus-biotaiteeseen-ilta-opettajille-espoossa/
END:VEVENT
BEGIN:VEVENT
DTSTART;TZID=Europe/Helsinki:20260422T180000
DTEND;TZID=Europe/Helsinki:20260422T193000
DTSTAMP:20260422T130750
CREATED:20260226T085856Z
LAST-MODIFIED:20260226T085856Z
UID:15864-1776880800-1776886200@www.luma.fi
SUMMARY:Tiedeilta Turussa: Verkkojen solmuissa
DESCRIPTION:Huhtikuussa lähdemme retkelle matematiikan poluille. Illassa kuullaan paitsi\, mitä nämä polut ovat\, myös\, mitä matemaatikot tarkoittavat graafeilla ja mihin he näitä käyttävät. Tule kuulemaan\, miten tiekartta tai vaikkapa rakennuksen pohjapiirros voidaan esittää yksinkertaisena verkkorakenteena. Miten navigaattori laskee nopeimman reitin paikasta toiseen ja mitä tekemistä tällä on graafien ja polkujen kanssa? \nAktiviteeteissa luvassa on erilaisia verkkorakenteisiin liittyviä pulmapelejä. Niitä varten ei tarvitse osata tiettyä koulumatematiikkaa: emme siis tarvitse tällä kertaa yhtälönratkaisua tai geometriaa. Pulmat keskittyvät enemmän loogiseen päättelyyn ja ainakin osa niistä on ratkaistavissa pidemmän kaavan kautta myös ihan yksinkertaisesti kokeilemalla. Riippumatta siis siitä\, mitä matematiikkaa on ehtinyt jo oppimaan tai sen jälkeen myös unohtamaan\, paikalle kannattaa tulla pohtimaan pulmia kanssamme! \nIlta järjestestetään tuttuun tapaan Natura-rakennuksen toisessa kerroksessa. \nLue lisää tapahtumasta: https://sites.utu.fi/luma/vapaa-ajan-tiedetoiminta/tiedeillat/
URL:https://www.luma.fi/tapahtuma/tiedeilta-turussa-verkkojen-solmuissa/
END:VEVENT
END:VCALENDAR