BEGIN:VCALENDAR
VERSION:2.0
PRODID:-//LUMA-keskus Suomi - ECPv6.15.20//NONSGML v1.0//EN
CALSCALE:GREGORIAN
METHOD:PUBLISH
X-WR-CALNAME:LUMA-keskus Suomi
X-ORIGINAL-URL:https://www.luma.fi
X-WR-CALDESC:Tapahtumat LUMA-keskus Suomi
REFRESH-INTERVAL;VALUE=DURATION:PT1H
X-Robots-Tag:noindex
X-PUBLISHED-TTL:PT1H
BEGIN:VTIMEZONE
TZID:Europe/Helsinki
BEGIN:DAYLIGHT
TZOFFSETFROM:+0200
TZOFFSETTO:+0300
TZNAME:EEST
DTSTART:20250330T010000
END:DAYLIGHT
BEGIN:STANDARD
TZOFFSETFROM:+0300
TZOFFSETTO:+0200
TZNAME:EET
DTSTART:20251026T010000
END:STANDARD
BEGIN:DAYLIGHT
TZOFFSETFROM:+0200
TZOFFSETTO:+0300
TZNAME:EEST
DTSTART:20260329T010000
END:DAYLIGHT
BEGIN:STANDARD
TZOFFSETFROM:+0300
TZOFFSETTO:+0200
TZNAME:EET
DTSTART:20261025T010000
END:STANDARD
BEGIN:DAYLIGHT
TZOFFSETFROM:+0200
TZOFFSETTO:+0300
TZNAME:EEST
DTSTART:20270328T010000
END:DAYLIGHT
BEGIN:STANDARD
TZOFFSETFROM:+0300
TZOFFSETTO:+0200
TZNAME:EET
DTSTART:20271031T010000
END:STANDARD
END:VTIMEZONE
BEGIN:VEVENT
DTSTART;TZID=Europe/Helsinki:20260325T160000
DTEND;TZID=Europe/Helsinki:20260325T180000
DTSTAMP:20260424T015200
CREATED:20251222T122852Z
LAST-MODIFIED:20260217T080602Z
UID:15552-1774454400-1774461600@www.luma.fi
SUMMARY:Opettajalta opettajalle -webinaari: Kestävyyskasvatus alakoulun arjessa
DESCRIPTION:Tervetuloa verkostomme Opettajalta opettajalle -webinaariin\, jossa jaetaan kokemuksia ja asiantuntijuutta opettajalta opettajalle.  \nWebinaari: Kestävyyskasvatus alakoulun arjessa. Aika: ke 25.3. klo 16–18. Paikka: ZOOM-verkkokokouspalvelussa (tilaisuus tallennetaan). Puhuja: Hilla Korpela (KM)\, väitöskirjatutkija\, Oulun yliopisto (luokanopettaja\, Oulun kaupunki). Kohderyhmä: Ensisijaisesti alakoulun opettajat\, mutta kaikki aiheesta kiinnostuneet ovat tervetulleita. Ohjelman kuvaus  \nMiten kestävyyskasvatus näkyy alakoulun arjessa? Tässä webinaarissa tarkastellaan kestävyyskasvatusta opetuksen ja koko koulun toimintakulttuurin näkökulmasta sekä pohditaan ekososiaalista sivistystä osana opetussuunnitelmaa.Webinaari yhdistää ajankohtaisen tutkimustiedon ja koulun arkeen kiinnittyvän pedagogiikan. Esillä ovat monialaiset ja kokemukselliset lähestymistavat sekä tapa toteuttaa kestävyyskasvatusta niin\, että se tukee oppilaiden osallisuutta ja merkityksellistä oppimista. \nLuvassa on tutkimukseen nojaavaa luentoa\, käytännön kokemuksia\, toimiviksi koettuja materiaaleja sekä ajatuksia herättävää pohdintaa. Webinaari tarjoaa inspiraatiota ja konkreettisia ideoita kaikille alakoulun opettajille ja kestävyyskasvatuksesta kiinnostuneille. \nAikataulu \n\nKlo 16.00–16.10 Tervetuloa \n\n\nKlo 16.10–16.20 Pysähtymisen harjoitus  \n\nKlo 16.20–16.50 Luento-osuus \nKlo 16.50–17.00 Keskustelu \n\nKlo 17.00–17.20 Ohjattu harjoitus: ota esille kynä ja paperia \n\n\nKlo 17.20–17.50 Keskustelutehtävä \n\n\nKlo 17.50–18.00 Koonti \n\nMiten mukaan?Saat linkin webinaariin ilmoittautumalla sarjaan sähköisen lomakkeen kautta. Ilmoittautuminen ei kuitenkaan sido osallistumaan muihin koulutuksiin. \n  \n Ilmoittaudu koulutukseen tästä
URL:https://www.luma.fi/tapahtuma/opettajalta-opettajalle-webinaari-kestavyyskasvatus-alakoulun-arjessa/
LOCATION:ZOOM
ATTACH;FMTTYPE=image/jpeg:https://www.luma.fi/wp-content/uploads/2025/12/Opettajalta-opettajalle-bannerikuva.jpg
ORGANIZER;CN="LUMA-keskus Suomi":MAILTO:luma-keskus@helsinki.fi
END:VEVENT
END:VCALENDAR